BEGIN:VCALENDAR
VERSION:2.0
PRODID:-//Watermark Art Center - ECPv6.15.20//NONSGML v1.0//EN
CALSCALE:GREGORIAN
METHOD:PUBLISH
X-WR-CALNAME:Watermark Art Center
X-ORIGINAL-URL:https://watermarkartcenter.org
X-WR-CALDESC:Events for Watermark Art Center
REFRESH-INTERVAL;VALUE=DURATION:PT1H
X-Robots-Tag:noindex
X-PUBLISHED-TTL:PT1H
BEGIN:VTIMEZONE
TZID:America/Chicago
BEGIN:DAYLIGHT
TZOFFSETFROM:-0600
TZOFFSETTO:-0500
TZNAME:CDT
DTSTART:20240310T080000
END:DAYLIGHT
BEGIN:STANDARD
TZOFFSETFROM:-0500
TZOFFSETTO:-0600
TZNAME:CST
DTSTART:20241103T070000
END:STANDARD
BEGIN:DAYLIGHT
TZOFFSETFROM:-0600
TZOFFSETTO:-0500
TZNAME:CDT
DTSTART:20250309T080000
END:DAYLIGHT
BEGIN:STANDARD
TZOFFSETFROM:-0500
TZOFFSETTO:-0600
TZNAME:CST
DTSTART:20251102T070000
END:STANDARD
BEGIN:DAYLIGHT
TZOFFSETFROM:-0600
TZOFFSETTO:-0500
TZNAME:CDT
DTSTART:20260308T080000
END:DAYLIGHT
BEGIN:STANDARD
TZOFFSETFROM:-0500
TZOFFSETTO:-0600
TZNAME:CST
DTSTART:20261101T070000
END:STANDARD
END:VTIMEZONE
BEGIN:VEVENT
DTSTART;TZID=America/Chicago:20250509T170000
DTEND;TZID=America/Chicago:20250509T190000
DTSTAMP:20260424T190359
CREATED:20250419T190333Z
LAST-MODIFIED:20250419T191050Z
UID:43882-1746810000-1746817200@watermarkartcenter.org
SUMMARY:Neotectonic Reception and Artist Talk
DESCRIPTION:Multimedia Artist Susan Hensel and her exhibit “Neotectonic Period” opens May 9 with a reception from 5pm to 7pm including an artist talk with Hensel at 6pm. \nHensel explains the definition of Neotectonics as “the study of the motions and deformations of the Earth’s crust in current times\, often in service of predicting earthquakes.” She uses this terminology as a metaphor to describe the seismic forces of climate change\, cultural upheaval\, pandemic\, and political turmoil reflected in her work. The show runs through July 26\, 2025. \nThere is no cost to attend the reception and it is open to the public. For more information regarding exhibits\, classes\, or events contact 218-444-7570 or visit WatermarkArtCenter.org. Watermark galleries and retail shop are accessible\, free and open to the public from 10 a.m. to 5 p.m. Monday through Friday and located at 505 Bemidji Ave. N in Bemidji\, MN.
URL:https://watermarkartcenter.org/event/2025-neotectonic-reception/
LOCATION:Watermark Art Center\, 505 Bemidji Ave\, Bemidji\, 56601\, United States
CATEGORIES:Artist Talk,Exhibit Opening
ATTACH;FMTTYPE=image/jpeg:https://watermarkartcenter.org/wp-content/uploads/2025/04/Hensel_2_NOAA-web.jpg
ORGANIZER;CN="Watermark Art Center":MAILTO:watermark@paulbunyan.net
END:VEVENT
END:VCALENDAR