BEGIN:VCALENDAR
VERSION:2.0
PRODID:-//Watermark Art Center - ECPv6.15.20//NONSGML v1.0//EN
CALSCALE:GREGORIAN
METHOD:PUBLISH
X-ORIGINAL-URL:https://watermarkartcenter.org
X-WR-CALDESC:Events for Watermark Art Center
REFRESH-INTERVAL;VALUE=DURATION:PT1H
X-Robots-Tag:noindex
X-PUBLISHED-TTL:PT1H
BEGIN:VTIMEZONE
TZID:America/Chicago
BEGIN:DAYLIGHT
TZOFFSETFROM:-0600
TZOFFSETTO:-0500
TZNAME:CDT
DTSTART:20230312T080000
END:DAYLIGHT
BEGIN:STANDARD
TZOFFSETFROM:-0500
TZOFFSETTO:-0600
TZNAME:CST
DTSTART:20231105T070000
END:STANDARD
BEGIN:DAYLIGHT
TZOFFSETFROM:-0600
TZOFFSETTO:-0500
TZNAME:CDT
DTSTART:20240310T080000
END:DAYLIGHT
BEGIN:STANDARD
TZOFFSETFROM:-0500
TZOFFSETTO:-0600
TZNAME:CST
DTSTART:20241103T070000
END:STANDARD
BEGIN:DAYLIGHT
TZOFFSETFROM:-0600
TZOFFSETTO:-0500
TZNAME:CDT
DTSTART:20250309T080000
END:DAYLIGHT
BEGIN:STANDARD
TZOFFSETFROM:-0500
TZOFFSETTO:-0600
TZNAME:CST
DTSTART:20251102T070000
END:STANDARD
END:VTIMEZONE
BEGIN:VEVENT
DTSTART;TZID=America/Chicago:20240608T100000
DTEND;TZID=America/Chicago:20240608T160000
DTSTAMP:20260425T155919
CREATED:20240503T171431Z
LAST-MODIFIED:20240524T204416Z
UID:39859-1717840800-1717862400@watermarkartcenter.org
SUMMARY:CANCELED: Pop-Up Outdoor Artist Market
DESCRIPTION:THIS EVENT HAS BEEN CANCELED. Rain or shine! Invited artists will be set up on Watermark’s south lawn on Saturday June 8 from 10am to 4pm. The parking lot on the north side will be open for visitors. Watch here for live music and food details coming soon.
URL:https://watermarkartcenter.org/event/pop-up-june-2024/
LOCATION:Watermark Art Center\, 505 Bemidji Ave\, Bemidji\, 56601\, United States
CATEGORIES:Demonstration,Pop-Up Market
ATTACH;FMTTYPE=image/jpeg:https://watermarkartcenter.org/wp-content/uploads/2024/05/pop-up-web-generic.jpg
ORGANIZER;CN="Watermark Art Center":MAILTO:watermark@paulbunyan.net
END:VEVENT
END:VCALENDAR