BEGIN:VCALENDAR
VERSION:2.0
PRODID:-//Watermark Art Center - ECPv6.15.20//NONSGML v1.0//EN
CALSCALE:GREGORIAN
METHOD:PUBLISH
X-WR-CALNAME:Watermark Art Center
X-ORIGINAL-URL:https://watermarkartcenter.org
X-WR-CALDESC:Events for Watermark Art Center
REFRESH-INTERVAL;VALUE=DURATION:PT1H
X-Robots-Tag:noindex
X-PUBLISHED-TTL:PT1H
BEGIN:VTIMEZONE
TZID:America/Chicago
BEGIN:DAYLIGHT
TZOFFSETFROM:-0600
TZOFFSETTO:-0500
TZNAME:CDT
DTSTART:20250309T080000
END:DAYLIGHT
BEGIN:STANDARD
TZOFFSETFROM:-0500
TZOFFSETTO:-0600
TZNAME:CST
DTSTART:20251102T070000
END:STANDARD
BEGIN:DAYLIGHT
TZOFFSETFROM:-0600
TZOFFSETTO:-0500
TZNAME:CDT
DTSTART:20260308T080000
END:DAYLIGHT
BEGIN:STANDARD
TZOFFSETFROM:-0500
TZOFFSETTO:-0600
TZNAME:CST
DTSTART:20261101T070000
END:STANDARD
BEGIN:DAYLIGHT
TZOFFSETFROM:-0600
TZOFFSETTO:-0500
TZNAME:CDT
DTSTART:20270314T080000
END:DAYLIGHT
BEGIN:STANDARD
TZOFFSETFROM:-0500
TZOFFSETTO:-0600
TZNAME:CST
DTSTART:20271107T070000
END:STANDARD
END:VTIMEZONE
BEGIN:VEVENT
DTSTART;TZID=America/Chicago:20260328T130000
DTEND;TZID=America/Chicago:20260328T153000
DTSTAMP:20260424T170755
CREATED:20260220T184525Z
LAST-MODIFIED:20260220T184525Z
UID:47042-1774702800-1774711800@watermarkartcenter.org
SUMMARY:Oil Painting with Impressionism
DESCRIPTION:Oil Painting with Impressionism Workshop with Darcy Brambrink\nDate: Saturday\, March 28\, 2026\nTime: 1 – 3:30pm\nCost: $95.00\nAdults 16 and up \nDiscover the expressive freedom of oil impressionism in an immersive workshop led by Minnesota artist Darcy Brambrink. Designed for beginning painters who wish to deepen their color\, light\, and brushwork\, this workshop focuses on capturing atmospheric landscapes and evocative moments with confident\, economical strokes. Prepare to paint boldly\, see with simplicity\, and leave with renewed confidence in handling oil and impressionist expression.\nParticipants will receive all artist quality supplies to complete a 9 x 12 painting. \nAdditional Info to Participants:\nParticipants should bring or wear an old shirt or paint smock\, their imagination\, and a flat box to transport their painting. \nContact Jill Neumann at jneumann@watermarkartcenter.org for more information or\, if class is sold out\, to be put on a waiting list. \nRegister and pay here →
URL:https://watermarkartcenter.org/event/oil-painting-with-impressionism/
LOCATION:Watermark Art Center\, 505 Bemidji Ave\, Bemidji\, 56601\, United States
CATEGORIES:Activity,Adults,Education
ATTACH;FMTTYPE=image/jpeg:https://watermarkartcenter.org/wp-content/uploads/2026/02/Heron-Oil-750-web.jpg
ORGANIZER;CN="Watermark Art Center":MAILTO:watermark@paulbunyan.net
END:VEVENT
END:VCALENDAR