BEGIN:VCALENDAR
VERSION:2.0
PRODID:-//Watermark Art Center - ECPv6.15.20//NONSGML v1.0//EN
CALSCALE:GREGORIAN
METHOD:PUBLISH
X-ORIGINAL-URL:https://watermarkartcenter.org
X-WR-CALDESC:Events for Watermark Art Center
REFRESH-INTERVAL;VALUE=DURATION:PT1H
X-Robots-Tag:noindex
X-PUBLISHED-TTL:PT1H
BEGIN:VTIMEZONE
TZID:America/Chicago
BEGIN:DAYLIGHT
TZOFFSETFROM:-0600
TZOFFSETTO:-0500
TZNAME:CDT
DTSTART:20230312T080000
END:DAYLIGHT
BEGIN:STANDARD
TZOFFSETFROM:-0500
TZOFFSETTO:-0600
TZNAME:CST
DTSTART:20231105T070000
END:STANDARD
BEGIN:DAYLIGHT
TZOFFSETFROM:-0600
TZOFFSETTO:-0500
TZNAME:CDT
DTSTART:20240310T080000
END:DAYLIGHT
BEGIN:STANDARD
TZOFFSETFROM:-0500
TZOFFSETTO:-0600
TZNAME:CST
DTSTART:20241103T070000
END:STANDARD
BEGIN:DAYLIGHT
TZOFFSETFROM:-0600
TZOFFSETTO:-0500
TZNAME:CDT
DTSTART:20250309T080000
END:DAYLIGHT
BEGIN:STANDARD
TZOFFSETFROM:-0500
TZOFFSETTO:-0600
TZNAME:CST
DTSTART:20251102T070000
END:STANDARD
END:VTIMEZONE
BEGIN:VEVENT
DTSTART;TZID=America/Chicago:20240627T110000
DTEND;TZID=America/Chicago:20240627T123000
DTSTAMP:20260425T203848
CREATED:20240524T210045Z
LAST-MODIFIED:20250221T214429Z
UID:40218-1719486000-1719491400@watermarkartcenter.org
SUMMARY:Generative Writing Workshop with Danez Smith
DESCRIPTION:“Broken Clocks: Writing Across Time”\nIn conjunction with the Minnesota Northwoods Writers Conference and Watermark’s Spoken Word series \, we invite you to release your inner poet with performative speaker Danez Smith and learn how to generate poems & stories of your own! \nThis workshop is open to the public but seating is limited\, so reserve your place now. The workshop will be held June 27 from 11 – 12:30 at Watermark Art Center.  To register call Watermark at 218-444-7570 or email to Leah Grunzke\,  lgrunzke@watermarkartcenter.org. Watch here for updates. \nDanez Smith is the author of three collections including Homie and Don’t Call Us Dead. They have won the Forward Prize for Best Collection\, the Minnesota Book Award in Poetry\, the Lambda Literary Award for Gay Poetry\, the Kate Tufts Discovery Award\, and have been a finalist for the NAACP Image Award in Poetry\, the National Book Critic Circle Award\, and the National Book Award. Danez’s poetry and prose has been featured in Vanity Fair\, The New York Times\, The New Yorker\, GQ\, Best American Poetry and on the Late Show with Stephen Colbert. Danez is a member of the Dark Noise Collective. Former co-host of the Webby nominated podcast VS (Versus)\, they are the recipient of fellowships from the Poetry Foundation\, Princeton\, United States Artists\, the McKnight Foundation\, the Montalvo Arts Center\, Cave Canem\, and the National Endowment for the Arts. Danez has been featured as part of Forbes’ annual 30 Under 30 list and is the winner of a Pushcart Prize. They live in Minneapolis near their people. \nWatermark’s galleries\, classroom and gift shop are accessible\, free and open to the public Mondays – Saturdays from 10 to 5pm. \nThis activity is made possible by the voters of Minnesota through grants from the Minnesota State Arts Board and the Region 2 Arts Council\, thanks to a legislative appropriation from the Arts & Cultural Heritage Fund.
URL:https://watermarkartcenter.org/event/generative-writing-workshop/
LOCATION:Watermark Art Center\, 505 Bemidji Ave\, Bemidji\, 56601\, United States
CATEGORIES:Education,Past Events,Presentation,Spoken Word,Workshop
ATTACH;FMTTYPE=image/jpeg:https://watermarkartcenter.org/wp-content/uploads/2024/05/Danez-Smith-web.jpg
ORGANIZER;CN="Watermark Art Center":MAILTO:watermark@paulbunyan.net
END:VEVENT
END:VCALENDAR