BEGIN:VCALENDAR
VERSION:2.0
PRODID:-//Watermark Art Center - ECPv6.15.20//NONSGML v1.0//EN
CALSCALE:GREGORIAN
METHOD:PUBLISH
X-WR-CALNAME:Watermark Art Center
X-ORIGINAL-URL:https://watermarkartcenter.org
X-WR-CALDESC:Events for Watermark Art Center
REFRESH-INTERVAL;VALUE=DURATION:PT1H
X-Robots-Tag:noindex
X-PUBLISHED-TTL:PT1H
BEGIN:VTIMEZONE
TZID:America/Chicago
BEGIN:DAYLIGHT
TZOFFSETFROM:-0600
TZOFFSETTO:-0500
TZNAME:CDT
DTSTART:20240310T080000
END:DAYLIGHT
BEGIN:STANDARD
TZOFFSETFROM:-0500
TZOFFSETTO:-0600
TZNAME:CST
DTSTART:20241103T070000
END:STANDARD
BEGIN:DAYLIGHT
TZOFFSETFROM:-0600
TZOFFSETTO:-0500
TZNAME:CDT
DTSTART:20250309T080000
END:DAYLIGHT
BEGIN:STANDARD
TZOFFSETFROM:-0500
TZOFFSETTO:-0600
TZNAME:CST
DTSTART:20251102T070000
END:STANDARD
BEGIN:DAYLIGHT
TZOFFSETFROM:-0600
TZOFFSETTO:-0500
TZNAME:CDT
DTSTART:20260308T080000
END:DAYLIGHT
BEGIN:STANDARD
TZOFFSETFROM:-0500
TZOFFSETTO:-0600
TZNAME:CST
DTSTART:20261101T070000
END:STANDARD
END:VTIMEZONE
BEGIN:VEVENT
DTSTART;TZID=America/Chicago:20251107T100000
DTEND;TZID=America/Chicago:20251108T170000
DTSTAMP:20260425T184532
CREATED:20251016T194224Z
LAST-MODIFIED:20251017T171553Z
UID:46023-1762509600-1762621200@watermarkartcenter.org
SUMMARY:Sip\, Shop and Stroll
DESCRIPTION:We’re excited to announce Watermark is part of the 2nd Annual Fall Sip\, Shop & Stroll happening Friday\, November 7th & Saturday\, November 8th!\n\n\n \n\n\nIt’s the official start of the Holiday Shopping Season for Watermark’s SHOP 505. We will be offering hot cider\, treats and SHOP 505 deals to kick off the holiday season! \n\n\n \n\n\nVisit participating businesses in Downtown Bemidji and win! Here’s how it works:\n\n\n \n\n\n Each participating business will have a unique QR code for customers to scan.\n\n\n Every scan = one entry into the grand prize gift card giveaways.\n\n\n Each business will donate a $25 gift certificate.\n\n\n Gift certificates will be bundled so multiple winners receive $100 or more in prizes!\n\n\n \n\n\nJoin in the fun and see what’s happening this fall in Downtown Bemidji!\n\nMore from the Bemidji Downtown Alliance: facebook.com/events/1206012137999879/1206116491322777/
URL:https://watermarkartcenter.org/event/2025sss/
LOCATION:Watermark Art Center\, 505 Bemidji Ave\, Bemidji\, 56601\, United States
CATEGORIES:Activity,shopping
ATTACH;FMTTYPE=image/jpeg:https://watermarkartcenter.org/wp-content/uploads/2025/10/shop-sip-and-stroll-2025.jpg
END:VEVENT
END:VCALENDAR