BEGIN:VCALENDAR
VERSION:2.0
PRODID:-//Watermark Art Center - ECPv6.15.20//NONSGML v1.0//EN
CALSCALE:GREGORIAN
METHOD:PUBLISH
X-ORIGINAL-URL:https://watermarkartcenter.org
X-WR-CALDESC:Events for Watermark Art Center
REFRESH-INTERVAL;VALUE=DURATION:PT1H
X-Robots-Tag:noindex
X-PUBLISHED-TTL:PT1H
BEGIN:VTIMEZONE
TZID:America/Chicago
BEGIN:DAYLIGHT
TZOFFSETFROM:-0600
TZOFFSETTO:-0500
TZNAME:CDT
DTSTART:20230312T080000
END:DAYLIGHT
BEGIN:STANDARD
TZOFFSETFROM:-0500
TZOFFSETTO:-0600
TZNAME:CST
DTSTART:20231105T070000
END:STANDARD
BEGIN:DAYLIGHT
TZOFFSETFROM:-0600
TZOFFSETTO:-0500
TZNAME:CDT
DTSTART:20240310T080000
END:DAYLIGHT
BEGIN:STANDARD
TZOFFSETFROM:-0500
TZOFFSETTO:-0600
TZNAME:CST
DTSTART:20241103T070000
END:STANDARD
BEGIN:DAYLIGHT
TZOFFSETFROM:-0600
TZOFFSETTO:-0500
TZNAME:CDT
DTSTART:20250309T080000
END:DAYLIGHT
BEGIN:STANDARD
TZOFFSETFROM:-0500
TZOFFSETTO:-0600
TZNAME:CST
DTSTART:20251102T070000
END:STANDARD
END:VTIMEZONE
BEGIN:VEVENT
DTSTART;TZID=America/Chicago:20240425T183000
DTEND;TZID=America/Chicago:20240425T210000
DTSTAMP:20260425T191946
CREATED:20240221T185159Z
LAST-MODIFIED:20250221T214319Z
UID:38539-1714069800-1714078800@watermarkartcenter.org
SUMMARY:Poetry SLAM
DESCRIPTION:Follow website link below for full information and pre-registration. \nCASH PRIZES for 1st\, 2nd\, 3rd \nSame-day registration at event available based on space. \nNEXT SLAM April 25\, 2024 \nSign in begins at 6:30; performances at 7pm – 9pm. Call Watermark if you’d like to pre-register. 218-444-7570\nWHERE: Fozzie’s Smokin Bar-B-Q\, 114 3rd St\, Bemidji MN\nFREE to participate! FREE to watch! \nQUESTIONS? email Leah at lgrunzke@watermarkartcenter.org. \nPoetry and Story Slams Rules & Info →
URL:https://watermarkartcenter.org/event/poetry-slam/
LOCATION:Fozzie’s Smokin Bar BQ\, 114 3rd St NW\, Bemidji\, 56601\, United States
CATEGORIES:Past Events,Poetry Slam,Spoken Word
ATTACH;FMTTYPE=image/jpeg:https://watermarkartcenter.org/wp-content/uploads/2024/01/poetry-slam-2024-web.jpg
ORGANIZER;CN="Watermark Art Center":MAILTO:watermark@paulbunyan.net
END:VEVENT
END:VCALENDAR