BEGIN:VCALENDAR
VERSION:2.0
PRODID:-//Watermark Art Center - ECPv6.15.20//NONSGML v1.0//EN
CALSCALE:GREGORIAN
METHOD:PUBLISH
X-WR-CALNAME:Watermark Art Center
X-ORIGINAL-URL:https://watermarkartcenter.org
X-WR-CALDESC:Events for Watermark Art Center
REFRESH-INTERVAL;VALUE=DURATION:PT1H
X-Robots-Tag:noindex
X-PUBLISHED-TTL:PT1H
BEGIN:VTIMEZONE
TZID:America/Chicago
BEGIN:DAYLIGHT
TZOFFSETFROM:-0600
TZOFFSETTO:-0500
TZNAME:CDT
DTSTART:20230312T080000
END:DAYLIGHT
BEGIN:STANDARD
TZOFFSETFROM:-0500
TZOFFSETTO:-0600
TZNAME:CST
DTSTART:20231105T070000
END:STANDARD
BEGIN:DAYLIGHT
TZOFFSETFROM:-0600
TZOFFSETTO:-0500
TZNAME:CDT
DTSTART:20240310T080000
END:DAYLIGHT
BEGIN:STANDARD
TZOFFSETFROM:-0500
TZOFFSETTO:-0600
TZNAME:CST
DTSTART:20241103T070000
END:STANDARD
BEGIN:DAYLIGHT
TZOFFSETFROM:-0600
TZOFFSETTO:-0500
TZNAME:CDT
DTSTART:20250309T080000
END:DAYLIGHT
BEGIN:STANDARD
TZOFFSETFROM:-0500
TZOFFSETTO:-0600
TZNAME:CST
DTSTART:20251102T070000
END:STANDARD
END:VTIMEZONE
BEGIN:VEVENT
DTSTART;TZID=America/Chicago:20240919T190000
DTEND;TZID=America/Chicago:20240919T210000
DTSTAMP:20260425T115408
CREATED:20240819T170447Z
LAST-MODIFIED:20250221T222618Z
UID:41331-1726772400-1726779600@watermarkartcenter.org
SUMMARY:September 19 Poetry SUPER SLAM!
DESCRIPTION:Poets get ready for the Fall Opener Poetry SUPER SLAM with live music September 19\, 2024 at Fozzies.  SUPER-SIZED CASH PRIZES will be awarded. \nThe SUPER SLAM will be held at Fozzie’s BBQ in Bemidji at 114 3rd St\, Bemidji\, MN. Poets should prepare three original SLAM! poems\, new in the last three years\, never previously performed at a state or local event\, and each under three minutes reading time. \nSign in begins at 6:00; performances at 7pm. Call Watermark 218-444-7570 if you’d like to pre-register to perform. \nNo fee to perform. No fee to watch. Visit WatermarkArtCenter.org for rules and guidelines.This event is sponsored in part by Sundown Records and the Bemidji Area Arts Endowment. Rules and information here: watermarkartcenter.org/poetry-slam-news/
URL:https://watermarkartcenter.org/event/september-19-poetry-super-slam/
LOCATION:Fozzie’s Smokin Bar BQ\, 114 3rd St NW\, Bemidji\, 56601\, United States
CATEGORIES:Past Events,Poetry Slam,Spoken Word
ATTACH;FMTTYPE=image/jpeg:https://watermarkartcenter.org/wp-content/uploads/2024/08/microphone-plaid.jpg
ORGANIZER;CN="Watermark Art Center":MAILTO:watermark@paulbunyan.net
END:VEVENT
END:VCALENDAR