BEGIN:VCALENDAR
VERSION:2.0
PRODID:-//Watermark Art Center - ECPv6.15.20//NONSGML v1.0//EN
CALSCALE:GREGORIAN
METHOD:PUBLISH
X-WR-CALNAME:Watermark Art Center
X-ORIGINAL-URL:https://watermarkartcenter.org
X-WR-CALDESC:Events for Watermark Art Center
REFRESH-INTERVAL;VALUE=DURATION:PT1H
X-Robots-Tag:noindex
X-PUBLISHED-TTL:PT1H
BEGIN:VTIMEZONE
TZID:America/Chicago
BEGIN:DAYLIGHT
TZOFFSETFROM:-0600
TZOFFSETTO:-0500
TZNAME:CDT
DTSTART:20230312T080000
END:DAYLIGHT
BEGIN:STANDARD
TZOFFSETFROM:-0500
TZOFFSETTO:-0600
TZNAME:CST
DTSTART:20231105T070000
END:STANDARD
BEGIN:DAYLIGHT
TZOFFSETFROM:-0600
TZOFFSETTO:-0500
TZNAME:CDT
DTSTART:20240310T080000
END:DAYLIGHT
BEGIN:STANDARD
TZOFFSETFROM:-0500
TZOFFSETTO:-0600
TZNAME:CST
DTSTART:20241103T070000
END:STANDARD
BEGIN:DAYLIGHT
TZOFFSETFROM:-0600
TZOFFSETTO:-0500
TZNAME:CDT
DTSTART:20250309T080000
END:DAYLIGHT
BEGIN:STANDARD
TZOFFSETFROM:-0500
TZOFFSETTO:-0600
TZNAME:CST
DTSTART:20251102T070000
END:STANDARD
END:VTIMEZONE
BEGIN:VEVENT
DTSTART;TZID=America/Chicago:20241121T180000
DTEND;TZID=America/Chicago:20241121T210000
DTSTAMP:20260425T083608
CREATED:20241014T161536Z
LAST-MODIFIED:20250221T222342Z
UID:42155-1732212000-1732222800@watermarkartcenter.org
SUMMARY:NOV 21 Poetry SLAM
DESCRIPTION:CASH PRIZES & LIVE MUSIC! \nFREE to participate\, FREE to watch.\nDoors at 6pm. Performances at 7pm \nPoets call Watermark to pre-register. Registration at the venue if space allows.\nEvent is at Fozzie’s Smokin’ Bar-B-Q\nRules and guidelines here: watermarkartcenter.org/poetry-slam-news/
URL:https://watermarkartcenter.org/event/nov21-poetry-slam/
LOCATION:Fozzie’s Smokin Bar BQ\, 114 3rd St NW\, Bemidji\, 56601\, United States
CATEGORIES:Past Events,Performance,Poetry Slam,Spoken Word
ATTACH;FMTTYPE=image/jpeg:https://watermarkartcenter.org/wp-content/uploads/2023/05/PoetrySLAM-web-general.jpg
ORGANIZER;CN="Watermark Art Center":MAILTO:watermark@paulbunyan.net
END:VEVENT
END:VCALENDAR