BEGIN:VCALENDAR
VERSION:2.0
PRODID:-//Watermark Art Center - ECPv6.15.20//NONSGML v1.0//EN
CALSCALE:GREGORIAN
METHOD:PUBLISH
X-ORIGINAL-URL:https://watermarkartcenter.org
X-WR-CALDESC:Events for Watermark Art Center
REFRESH-INTERVAL;VALUE=DURATION:PT1H
X-Robots-Tag:noindex
X-PUBLISHED-TTL:PT1H
BEGIN:VTIMEZONE
TZID:America/Chicago
BEGIN:DAYLIGHT
TZOFFSETFROM:-0600
TZOFFSETTO:-0500
TZNAME:CDT
DTSTART:20240310T080000
END:DAYLIGHT
BEGIN:STANDARD
TZOFFSETFROM:-0500
TZOFFSETTO:-0600
TZNAME:CST
DTSTART:20241103T070000
END:STANDARD
BEGIN:DAYLIGHT
TZOFFSETFROM:-0600
TZOFFSETTO:-0500
TZNAME:CDT
DTSTART:20250309T080000
END:DAYLIGHT
BEGIN:STANDARD
TZOFFSETFROM:-0500
TZOFFSETTO:-0600
TZNAME:CST
DTSTART:20251102T070000
END:STANDARD
BEGIN:DAYLIGHT
TZOFFSETFROM:-0600
TZOFFSETTO:-0500
TZNAME:CDT
DTSTART:20260308T080000
END:DAYLIGHT
BEGIN:STANDARD
TZOFFSETFROM:-0500
TZOFFSETTO:-0600
TZNAME:CST
DTSTART:20261101T070000
END:STANDARD
END:VTIMEZONE
BEGIN:VEVENT
DTSTART;TZID=America/Chicago:20250906T130000
DTEND;TZID=America/Chicago:20250906T153000
DTSTAMP:20260424T031444
CREATED:20250731T200548Z
LAST-MODIFIED:20250731T200836Z
UID:44963-1757163600-1757172600@watermarkartcenter.org
SUMMARY:Getting Creative with Pollinators Workshop
DESCRIPTION:Get creative with pollinators at this Watermark Art Center workshop on Saturday\, September 6 from 1:00 to 3:30pm. \nThis is a playful\, all-ages\, hands-on workshop for families and kids is inspired by artist Ann Gorman’s exhibition “Through My Lens”. The exhibit celebrates monarch butterflies and the world of pollinators. \nChildren will explore the life cycle of monarchs\, create colorful butterfly wings\, and make their own key chain or bracelet with each bead representing a part of the butterfly’s life cycle. Participants will spend time outside discovering pollinator-friendly spaces and learning how to spot signs of butterflies and other helpful insects. \nThe class fee is $24 for non-members / $22 for members. All class materials will be provided. \nFor more information\, registration and online payment\, visit watermarkartcenter.org/product/monarch-class.  Watermark is accessible and there is no fee to view exhibits or to visit the retail gallery during regular hours: Monday – Saturday from 10am to 5pm. 505 Bemidji Avenue N. in Bemidji\, MN. 218-444-7570. \n \nThis activity is made possible\, in part\, by a Region 2 Arts Council Artist Support Grant with funding from the McKnight Foundation.
URL:https://watermarkartcenter.org/event/pollinators-workshop/
LOCATION:Watermark Art Center\, 505 Bemidji Ave\, Bemidji\, 56601\, United States
CATEGORIES:Education,Pollinator Gardens,Workshop,Workshop
ATTACH;FMTTYPE=image/jpeg:https://watermarkartcenter.org/wp-content/uploads/2025/07/Ann-with-wings-web.jpg
ORGANIZER;CN="Watermark Art Center":MAILTO:watermark@paulbunyan.net
END:VEVENT
END:VCALENDAR