BEGIN:VCALENDAR
VERSION:2.0
PRODID:-//Watermark Art Center - ECPv6.15.20//NONSGML v1.0//EN
CALSCALE:GREGORIAN
METHOD:PUBLISH
X-WR-CALNAME:Watermark Art Center
X-ORIGINAL-URL:https://watermarkartcenter.org
X-WR-CALDESC:Events for Watermark Art Center
REFRESH-INTERVAL;VALUE=DURATION:PT1H
X-Robots-Tag:noindex
X-PUBLISHED-TTL:PT1H
BEGIN:VTIMEZONE
TZID:America/Chicago
BEGIN:DAYLIGHT
TZOFFSETFROM:-0600
TZOFFSETTO:-0500
TZNAME:CDT
DTSTART:20250309T080000
END:DAYLIGHT
BEGIN:STANDARD
TZOFFSETFROM:-0500
TZOFFSETTO:-0600
TZNAME:CST
DTSTART:20251102T070000
END:STANDARD
BEGIN:DAYLIGHT
TZOFFSETFROM:-0600
TZOFFSETTO:-0500
TZNAME:CDT
DTSTART:20260308T080000
END:DAYLIGHT
BEGIN:STANDARD
TZOFFSETFROM:-0500
TZOFFSETTO:-0600
TZNAME:CST
DTSTART:20261101T070000
END:STANDARD
BEGIN:DAYLIGHT
TZOFFSETFROM:-0600
TZOFFSETTO:-0500
TZNAME:CDT
DTSTART:20270314T080000
END:DAYLIGHT
BEGIN:STANDARD
TZOFFSETFROM:-0500
TZOFFSETTO:-0600
TZNAME:CST
DTSTART:20271107T070000
END:STANDARD
END:VTIMEZONE
BEGIN:VEVENT
DTSTART;TZID=America/Chicago:20260718T100000
DTEND;TZID=America/Chicago:20260719T160000
DTSTAMP:20260424T094939
CREATED:20251103T221255Z
LAST-MODIFIED:20251103T221255Z
UID:46343-1784368800-1784476800@watermarkartcenter.org
SUMMARY:58th Watermark Art Festival
DESCRIPTION:Festival Main Information & Schedule of Events Page → \n58th Annual Watermark Art Festival 2026 \nSaturday July 18\, 2026: 10AM to 5PM\nSunday July 19\, 2026:10AM to 4PM\nFREE Admission \nThe Watermark Art Festival\, formerly known as Art in the Park\, is a vibrant and longstanding event that has been a summer highlight for Northern Minnesotan residents and tourists since 1967. This two-day festival\, now in its 57th year\, takes place on Saturday\, July 19\, and Sunday\, July 20\, 2025\, in the heart of Downtown Bemidji. \nThe festival is a treasure trove for a diverse array of attendees\, including families\, art enthusiasts\, music lovers\, and foodies. It attracts thousands of visitors who come to immerse themselves in the rich cultural and artistic offerings. Families with children are particularly drawn to the Creative Zone\, where art activities and demonstrations provide entertainment and educational opportunities. Music enthusiasts can enjoy the performances on two live music stages\, featuring a variety of local and regional artists. \nThe event occurs on the third weekend of July\, with the festival running from 10 AM to 5 PM on Saturday and from 10 AM to 4 PM on Sunday. This schedule allows ample time for attendees to explore the extensive range of activities and exhibits. There is no charge for entry and the consistent flow of live music\, artist demonstrations\, and interactive art activities ensures a dynamic atmosphere throughout the festival. \nThe Watermark Art Festival is held at the Watermark Art Center and the historic Library Park\, located at 505 Bemidji Avenue N\, Bemidji\, MN 56601. This venue is easily accessible by car\, with ample parking available nearby. For those traveling from further afield\, Bemidji is served by the Bemidji Regional Airport\, and major highways such as US-2 and US-71 provide convenient road access. The setting is particularly charming\, with the festival area expanded to include both the Watermark Art Center grounds and the beautiful\, tree-lined Library Park across the street. \nThe festival’s unique appeal lies in its comprehensive and diverse offerings. Over 100 artists and organizations are represented\, showcasing a wide variety of hand-crafted items including woodwork\, ceramics\, jewelry\, photography\, metalworking\, greeting cards\, homemade preserves\, soaps\, stained glass\, original paintings\, and garden art. The food court and covered picnic area provide a delightful space for attendees to enjoy local cuisine while taking a break from the art and music. \nOne of the standout features of the festival is the integration of the Watermark Art Center itself. The center’s galleries\, including the retail gallery SHOP 505\, are open to the public during the festival\, offering a chance to view and purchase art from local and regional artists. The Creative Zone\, with its free art activities and demonstrations\, adds an interactive layer to the event\, making it accessible and engaging for all ages. \nThe live music on two stages is another major draw\, featuring local bands and musicians who bring a lively energy to the festival grounds. The absence of admission fees makes the event inclusive and accessible to everyone\, ensuring that all can enjoy the art\, music\, and community spirit that define the Watermark Art Festival. \n 
URL:https://watermarkartcenter.org/event/2026-waf/
LOCATION:Watermark Art Center\, 505 Bemidji Ave\, Bemidji\, 56601\, United States
CATEGORIES:Festival
ATTACH;FMTTYPE=image/png:https://watermarkartcenter.org/wp-content/uploads/2023/05/WAF-png-1.png
ORGANIZER;CN="Watermark Art Center":MAILTO:watermark@paulbunyan.net
END:VEVENT
END:VCALENDAR